BEGIN:VCALENDAR
VERSION:2.0
PRODID:-//Runners&#039; Club of Greater Cincinnati - ECPv6.15.20//NONSGML v1.0//EN
CALSCALE:GREGORIAN
METHOD:PUBLISH
X-WR-CALNAME:Runners&#039; Club of Greater Cincinnati
X-ORIGINAL-URL:https://cincinnatirunning.com
X-WR-CALDESC:Events for Runners&#039; Club of Greater Cincinnati
REFRESH-INTERVAL;VALUE=DURATION:PT1H
X-Robots-Tag:noindex
X-PUBLISHED-TTL:PT1H
BEGIN:VTIMEZONE
TZID:America/New_York
BEGIN:DAYLIGHT
TZOFFSETFROM:-0500
TZOFFSETTO:-0400
TZNAME:EDT
DTSTART:20230312T070000
END:DAYLIGHT
BEGIN:STANDARD
TZOFFSETFROM:-0400
TZOFFSETTO:-0500
TZNAME:EST
DTSTART:20231105T060000
END:STANDARD
BEGIN:DAYLIGHT
TZOFFSETFROM:-0500
TZOFFSETTO:-0400
TZNAME:EDT
DTSTART:20240310T070000
END:DAYLIGHT
BEGIN:STANDARD
TZOFFSETFROM:-0400
TZOFFSETTO:-0500
TZNAME:EST
DTSTART:20241103T060000
END:STANDARD
BEGIN:DAYLIGHT
TZOFFSETFROM:-0500
TZOFFSETTO:-0400
TZNAME:EDT
DTSTART:20250309T070000
END:DAYLIGHT
BEGIN:STANDARD
TZOFFSETFROM:-0400
TZOFFSETTO:-0500
TZNAME:EST
DTSTART:20251102T060000
END:STANDARD
END:VTIMEZONE
BEGIN:VEVENT
DTSTART;TZID=America/New_York:20240229T182900
DTEND;TZID=America/New_York:20240229T182900
DTSTAMP:20260421T061130
CREATED:20200205T145040Z
LAST-MODIFIED:20240225T172258Z
UID:2284-1709231340-1709231340@cincinnatirunning.com
SUMMARY:RCGC Leap Day Race
DESCRIPTION:2024 is a Leap Year so it is time for the RCGC Leap Day Race – a tradition that began in 2004. It will be a 4k Run / Walk on the Lunken Bike Trail. \nCost is $12.00 for RCGC Members / 21 & Under; $16.00 for the General Public through February 26\, 2024. Group Discount is available (Online Only). Visit the registration page for more information. \nVolunteer
URL:https://cincinnatirunning.com/event/rcgc-leap-day-race/
LOCATION:Lunken Airport Playfield\, 4740 Playfield Lane\, Cincinnati\, Ohio\, 45226
END:VEVENT
END:VCALENDAR