BEGIN:VCALENDAR
VERSION:2.0
PRODID:-//Runners&#039; Club of Greater Cincinnati - ECPv6.15.20//NONSGML v1.0//EN
CALSCALE:GREGORIAN
METHOD:PUBLISH
X-ORIGINAL-URL:https://cincinnatirunning.com
X-WR-CALDESC:Events for Runners&#039; Club of Greater Cincinnati
REFRESH-INTERVAL;VALUE=DURATION:PT1H
X-Robots-Tag:noindex
X-PUBLISHED-TTL:PT1H
BEGIN:VTIMEZONE
TZID:America/New_York
BEGIN:DAYLIGHT
TZOFFSETFROM:-0500
TZOFFSETTO:-0400
TZNAME:EDT
DTSTART:20220313T070000
END:DAYLIGHT
BEGIN:STANDARD
TZOFFSETFROM:-0400
TZOFFSETTO:-0500
TZNAME:EST
DTSTART:20221106T060000
END:STANDARD
BEGIN:DAYLIGHT
TZOFFSETFROM:-0500
TZOFFSETTO:-0400
TZNAME:EDT
DTSTART:20230312T070000
END:DAYLIGHT
BEGIN:STANDARD
TZOFFSETFROM:-0400
TZOFFSETTO:-0500
TZNAME:EST
DTSTART:20231105T060000
END:STANDARD
BEGIN:DAYLIGHT
TZOFFSETFROM:-0500
TZOFFSETTO:-0400
TZNAME:EDT
DTSTART:20240310T070000
END:DAYLIGHT
BEGIN:STANDARD
TZOFFSETFROM:-0400
TZOFFSETTO:-0500
TZNAME:EST
DTSTART:20241103T060000
END:STANDARD
END:VTIMEZONE
BEGIN:VEVENT
DTSTART;TZID=America/New_York:20231123T083000
DTEND;TZID=America/New_York:20231123T083000
DTSTAMP:20260421T082312
CREATED:20181028T154820Z
LAST-MODIFIED:20231107T135057Z
UID:1295-1700728200-1700728200@cincinnatirunning.com
SUMMARY:Annual ORRRC Turkey Trot
DESCRIPTION:The Turkey Trot has been a Dayton Area Thanksgiving tradition for over 40 years! Presented by the Ohio River Road Runners Club and the City of Miamisburg\, visit www.orrrc.org for more information.
URL:https://cincinnatirunning.com/event/40th-annual-orrrc-turkey-trot/
LOCATION:Riverfront Park\, 3 N Miami Ave\, Miamisburg\, OH\, 45342
END:VEVENT
BEGIN:VEVENT
DTSTART;TZID=America/New_York:20231123T090000
DTEND;TZID=America/New_York:20231123T090000
DTSTAMP:20260421T082312
CREATED:20181028T160305Z
LAST-MODIFIED:20231107T135557Z
UID:1306-1700730000-1700730000@cincinnatirunning.com
SUMMARY:Run Turkey Run
DESCRIPTION:Join us in Northern Kentucky for  a fun start to your Thanksgiving Day. A great alternative to the Mega Turkey trots. 5K distance. Early Start. Free Parking. Get in\, Get out\, Get home!\nVist the race information page for more information.
URL:https://cincinnatirunning.com/event/run-turkey-run/
LOCATION:England Idlewild Park\, 5550 Idlewild Rd\, Burlington\, Kentucky\, 41005
END:VEVENT
BEGIN:VEVENT
DTSTART;TZID=America/New_York:20231123T090000
DTEND;TZID=America/New_York:20231123T090000
DTSTAMP:20260421T082312
CREATED:20181028T160754Z
LAST-MODIFIED:20231107T140026Z
UID:1309-1700730000-1700730000@cincinnatirunning.com
SUMMARY:Thoroughbred Classic 5k
DESCRIPTION:The Bluegrass Runners invite you to join them for their Annual Thoroughbred Classic 5K & Kay Collins Memorial Mile on Thanksgiving Day at Lexington’s historic Keeneland Race Course. The race start/finish will be near Barn 2. \nAll proceeds from the race benefit local charities. Last year’s race had the largest attendance in its history\, allowing the Bluegrass Runners to present over $35\,000 in donations to seven local charities. \nVisit https://thoroughbredclassic5k.org for more information.
URL:https://cincinnatirunning.com/event/thoroughbred-classic-5k/
LOCATION:Keeneland\, 4201 Versailles Rd\, Lexington\, Kentucky\, 40510
END:VEVENT
BEGIN:VEVENT
DTSTART;TZID=America/New_York:20231123T090000
DTEND;TZID=America/New_York:20231123T090000
DTSTAMP:20260421T082312
CREATED:20191016T133435Z
LAST-MODIFIED:20230807T191532Z
UID:2205-1700730000-1700730000@cincinnatirunning.com
SUMMARY:Hamilton Thanksgiving Day 5k for YoungLives
DESCRIPTION:We are a Hamilton Thanksgiving tradition gathering families and friends for a fun way to start Thanksgiving Day\, while supporting the mission of caring for local teen moms through the ministry of YoungLives.
URL:https://cincinnatirunning.com/event/thanksgiving-5k-for-younglives/
LOCATION:The Marcum Park\, 116 Dayton St\, Hamilton\, OH\, 45011\, United States
END:VEVENT
BEGIN:VEVENT
DTSTART;TZID=America/New_York:20231123T093000
DTEND;TZID=America/New_York:20231123T093000
DTSTAMP:20260421T082313
CREATED:20181028T155031Z
LAST-MODIFIED:20231107T135801Z
UID:1299-1700731800-1700731800@cincinnatirunning.com
SUMMARY:Turkey Mosh 5k
DESCRIPTION:Sign up and enjoy a 5K on Thanksgiving Day. Features a scenic 5k course with a fast and flat finish that begins and ends at Mary\, Queen of Heaven. \nVisit the registration page for more information.
URL:https://cincinnatirunning.com/event/turkey-mosh-5k/
LOCATION:Mary Queen of Heaven Church\, 1150 Donaldson Hwy\, Erlanger\, KY\, 41018
END:VEVENT
END:VCALENDAR